Package: Rsamtools Version: 2.26.0 Command: /home/biocbuild/bbs-3.22-bioc/R/bin/R CMD INSTALL Rsamtools StartedAt: 2025-11-17 17:22:36 -0500 (Mon, 17 Nov 2025) EndedAt: 2025-11-17 17:23:15 -0500 (Mon, 17 Nov 2025) EllapsedTime: 39.2 seconds RetCode: 0 Status: OK