Package: Rsamtools Version: 2.26.0 Command: /home/biocbuild/bbs-3.22-bioc/R/bin/R CMD build --keep-empty-dirs --no-resave-data --md5 Rsamtools StartedAt: 2025-11-17 23:10:04 -0500 (Mon, 17 Nov 2025) EndedAt: 2025-11-17 23:11:05 -0500 (Mon, 17 Nov 2025) EllapsedTime: 60.1 seconds RetCode: 0 Status: OK PackageFile: Rsamtools_2.26.0.tar.gz PackageFileSize: 1.828 MiB