Package: Rqc Version: 1.44.0 Command: /home/biocbuild/bbs-3.22-bioc/R/bin/R CMD INSTALL Rqc StartedAt: 2025-11-03 15:57:04 -0500 (Mon, 03 Nov 2025) EndedAt: 2025-11-03 15:58:00 -0500 (Mon, 03 Nov 2025) EllapsedTime: 56.2 seconds RetCode: 0 Status: OK