Package: RnaSeqSampleSize Version: 2.20.0 Command: /home/biocbuild/bbs-3.22-bioc/R/bin/R CMD INSTALL RnaSeqSampleSize StartedAt: 2025-11-14 16:01:33 -0500 (Fri, 14 Nov 2025) EndedAt: 2025-11-14 16:02:32 -0500 (Fri, 14 Nov 2025) EllapsedTime: 58.4 seconds RetCode: 0 Status: OK