Package: Rmmquant Version: 1.28.0 Command: /Library/Frameworks/R.framework/Resources/bin/R CMD INSTALL Rmmquant StartedAt: 2025-11-10 15:20:11 -0500 (Mon, 10 Nov 2025) EndedAt: 2025-11-10 15:20:32 -0500 (Mon, 10 Nov 2025) EllapsedTime: 20.9 seconds RetCode: 0 Status: OK