Package: Rmmquant Version: 1.28.0 Command: /Library/Frameworks/R.framework/Resources/bin/R CMD build --keep-empty-dirs --no-resave-data Rmmquant StartedAt: 2025-11-10 17:32:58 -0500 (Mon, 10 Nov 2025) EndedAt: 2025-11-10 17:33:30 -0500 (Mon, 10 Nov 2025) EllapsedTime: 32.4 seconds RetCode: 0 Status: OK PackageFile: Rmmquant_1.28.0.tar.gz PackageFileSize: 45.09 KiB