Package: Rmagpie Version: 1.66.0 Command: /home/biocbuild/bbs-3.22-bioc/R/bin/R CMD INSTALL Rmagpie StartedAt: 2025-11-25 15:38:40 -0500 (Tue, 25 Nov 2025) EndedAt: 2025-11-25 15:38:51 -0500 (Tue, 25 Nov 2025) EllapsedTime: 11.1 seconds RetCode: 0 Status: OK