Package: Rigraphlib Version: 1.2.0 Command: /home/biocbuild/R/R/bin/R CMD INSTALL Rigraphlib StartedAt: 2025-11-17 21:07:14 -0000 (Mon, 17 Nov 2025) EndedAt: 2025-11-17 21:12:05 -0000 (Mon, 17 Nov 2025) EllapsedTime: 291.0 seconds RetCode: 0 Status: OK