Package: Rigraphlib Version: 1.2.0 Command: /home/biocbuild/R/R/bin/R CMD build --keep-empty-dirs --no-resave-data Rigraphlib StartedAt: 2025-11-18 04:29:18 -0000 (Tue, 18 Nov 2025) EndedAt: 2025-11-18 04:29:33 -0000 (Tue, 18 Nov 2025) EllapsedTime: 15.0 seconds RetCode: 0 Status: OK PackageFile: Rigraphlib_1.2.0.tar.gz PackageFileSize: 4.347 MiB