Package: Rigraphlib Version: 1.1.2 Command: /home/biocbuild/bbs-3.22-bioc/R/bin/R CMD INSTALL Rigraphlib StartedAt: 2025-10-27 15:07:20 -0400 (Mon, 27 Oct 2025) EndedAt: 2025-10-27 15:10:15 -0400 (Mon, 27 Oct 2025) EllapsedTime: 175.2 seconds RetCode: 0 Status: OK