Package: Rigraphlib Version: 1.2.0 Command: /Library/Frameworks/R.framework/Resources/bin/R CMD build --keep-empty-dirs --no-resave-data Rigraphlib StartedAt: 2025-11-18 01:36:56 -0500 (Tue, 18 Nov 2025) EndedAt: 2025-11-18 01:37:33 -0500 (Tue, 18 Nov 2025) EllapsedTime: 37.2 seconds RetCode: 0 Status: OK PackageFile: Rigraphlib_1.2.0.tar.gz PackageFileSize: 4.323 MiB