Package: Rigraphlib Version: 1.1.2 Command: /Library/Frameworks/R.framework/Resources/bin/R CMD INSTALL Rigraphlib StartedAt: 2025-10-28 15:09:44 -0400 (Tue, 28 Oct 2025) EndedAt: 2025-10-28 15:13:29 -0400 (Tue, 28 Oct 2025) EllapsedTime: 224.6 seconds RetCode: 0 Status: OK