Package: Rigraphlib Version: 1.1.2 Command: rm -rf Rigraphlib.buildbin-libdir && mkdir Rigraphlib.buildbin-libdir && /Users/biocbuild/BBS/utils/build-universal.sh Rigraphlib_1.1.2.tar.gz /Library/Frameworks/R.framework/Resources/bin/R Rigraphlib.buildbin-libdir StartedAt: 2025-10-28 02:31:21 -0400 (Tue, 28 Oct 2025) EndedAt: 2025-10-28 02:38:13 -0400 (Tue, 28 Oct 2025) EllapsedTime: 411.4 seconds RetCode: 0 Status: OK PackageFile: Rigraphlib_1.1.2.tgz PackageFileSize: 7.97 MiB