Package: Rigraphlib Version: 1.1.2 Command: /Library/Frameworks/R.framework/Resources/bin/R CMD INSTALL Rigraphlib StartedAt: 2025-10-28 15:03:04 -0400 (Tue, 28 Oct 2025) EndedAt: 2025-10-28 15:04:22 -0400 (Tue, 28 Oct 2025) EllapsedTime: 77.3 seconds RetCode: 0 Status: OK