Package: Rigraphlib Version: 1.2.0 Command: /Library/Frameworks/R.framework/Resources/bin/R CMD INSTALL Rigraphlib StartedAt: 2025-11-17 16:57:12 -0500 (Mon, 17 Nov 2025) EndedAt: 2025-11-17 16:58:25 -0500 (Mon, 17 Nov 2025) EllapsedTime: 72.8 seconds RetCode: 0 Status: OK