Package: Rigraphlib Version: 1.2.0 Maintainer: Aaron Lun MaintainerEmail: infinite.monkeys.with.keyboards at gmail.com git_url: https://git.bioconductor.org/packages/Rigraphlib git_branch: RELEASE_3_22 git_last_commit: e14ac37 git_last_commit_date: 2025-10-29 11:34:43 -0400 (Wed, 29 Oct 2025)