Package: RiboCrypt Version: 1.16.0 Command: /home/biocbuild/bbs-3.22-bioc/R/bin/R CMD build --keep-empty-dirs --no-resave-data --md5 RiboCrypt StartedAt: 2025-11-02 19:53:18 -0500 (Sun, 02 Nov 2025) EndedAt: 2025-11-02 19:54:46 -0500 (Sun, 02 Nov 2025) EllapsedTime: 88.1 seconds RetCode: 0 Status: OK PackageFile: RiboCrypt_1.16.0.tar.gz PackageFileSize: 12.25 MiB