Package: Rhtslib Version: 3.6.0 Command: /Library/Frameworks/R.framework/Resources/bin/R CMD INSTALL Rhtslib StartedAt: 2025-11-03 15:10:11 -0500 (Mon, 03 Nov 2025) EndedAt: 2025-11-03 15:10:52 -0500 (Mon, 03 Nov 2025) EllapsedTime: 41.0 seconds RetCode: 0 Status: OK