Package: Rhtslib Version: 3.6.0 Command: /Library/Frameworks/R.framework/Resources/bin/R CMD build --keep-empty-dirs --no-resave-data Rhtslib StartedAt: 2025-11-03 18:28:10 -0500 (Mon, 03 Nov 2025) EndedAt: 2025-11-03 18:29:04 -0500 (Mon, 03 Nov 2025) EllapsedTime: 54.7 seconds RetCode: 0 Status: OK PackageFile: Rhtslib_3.6.0.tar.gz PackageFileSize: 4.91 MiB