Package: Rhtslib Version: 3.6.0 Command: rm -rf Rhtslib.buildbin-libdir && mkdir Rhtslib.buildbin-libdir && /Users/biocbuild/BBS/utils/build-universal.sh Rhtslib_3.6.0.tar.gz /Library/Frameworks/R.framework/Resources/bin/R Rhtslib.buildbin-libdir StartedAt: 2025-11-04 01:59:22 -0500 (Tue, 04 Nov 2025) EndedAt: 2025-11-04 02:00:21 -0500 (Tue, 04 Nov 2025) EllapsedTime: 58.7 seconds RetCode: 0 Status: OK PackageFile: Rhtslib_3.6.0.tgz PackageFileSize: 3.31 MiB