Package: Rhtslib Version: 3.5.1 Command: /Library/Frameworks/R.framework/Resources/bin/R CMD INSTALL Rhtslib StartedAt: 2025-10-27 15:01:43 -0400 (Mon, 27 Oct 2025) EndedAt: 2025-10-27 15:01:56 -0400 (Mon, 27 Oct 2025) EllapsedTime: 12.6 seconds RetCode: 0 Status: OK