Package: Rhtslib Version: 3.5.1 Command: /Library/Frameworks/R.framework/Resources/bin/R CMD build --keep-empty-dirs --no-resave-data Rhtslib StartedAt: 2025-10-27 17:30:00 -0400 (Mon, 27 Oct 2025) EndedAt: 2025-10-27 17:30:18 -0400 (Mon, 27 Oct 2025) EllapsedTime: 18.2 seconds RetCode: 0 Status: OK PackageFile: Rhtslib_3.5.1.tar.gz PackageFileSize: 4.91 MiB