Package: Rhtslib Version: 3.6.0 Command: /Library/Frameworks/R.framework/Resources/bin/R CMD INSTALL Rhtslib StartedAt: 2025-11-17 16:54:19 -0500 (Mon, 17 Nov 2025) EndedAt: 2025-11-17 16:54:31 -0500 (Mon, 17 Nov 2025) EllapsedTime: 12.0 seconds RetCode: 0 Status: OK