Package: Rhtslib Version: 3.6.0 Maintainer: Hervé Pagès MaintainerEmail: hpages.on.github at gmail.com git_url: https://git.bioconductor.org/packages/Rhtslib git_branch: RELEASE_3_22 git_last_commit: c4b7268 git_last_commit_date: 2025-10-29 12:34:07 -0500 (Wed, 29 Oct 2025)