Package: Rhisat2 Version: 1.26.0 Command: /home/biocbuild/bbs-3.22-bioc/R/bin/R CMD INSTALL Rhisat2 StartedAt: 2025-11-17 17:56:39 -0500 (Mon, 17 Nov 2025) EndedAt: 2025-11-17 18:00:07 -0500 (Mon, 17 Nov 2025) EllapsedTime: 208.0 seconds RetCode: 0 Status: OK