Package: Rhdf5lib Version: 1.32.0 Command: /Library/Frameworks/R.framework/Resources/bin/R CMD INSTALL Rhdf5lib StartedAt: 2025-11-17 16:46:13 -0500 (Mon, 17 Nov 2025) EndedAt: 2025-11-17 16:53:55 -0500 (Mon, 17 Nov 2025) EllapsedTime: 461.9 seconds RetCode: 0 Status: OK