Package: Rhdf5lib Version: 1.32.0 Command: rm -rf Rhdf5lib.buildbin-libdir && mkdir Rhdf5lib.buildbin-libdir && /Users/biocbuild/BBS/utils/build-universal.sh Rhdf5lib_1.32.0.tar.gz /Library/Frameworks/R.framework/Resources/bin/R Rhdf5lib.buildbin-libdir StartedAt: 2025-11-18 18:24:00 -0500 (Tue, 18 Nov 2025) EndedAt: 2025-11-18 18:33:42 -0500 (Tue, 18 Nov 2025) EllapsedTime: 582.4 seconds RetCode: 0 Status: OK PackageFile: Rhdf5lib_1.32.0.tgz PackageFileSize: 9.646 MiB