Package: Rhdf5lib Version: 1.32.0 Command: /Library/Frameworks/R.framework/Resources/bin/R CMD build --keep-empty-dirs --no-resave-data Rhdf5lib StartedAt: 2025-10-31 18:30:55 -0400 (Fri, 31 Oct 2025) EndedAt: 2025-10-31 18:37:43 -0400 (Fri, 31 Oct 2025) EllapsedTime: 408.3 seconds RetCode: 0 Status: OK PackageFile: Rhdf5lib_1.32.0.tar.gz PackageFileSize: 11.5 MiB