Package: Rhdf5lib Version: 1.32.0 Command: rm -rf Rhdf5lib.buildbin-libdir && mkdir Rhdf5lib.buildbin-libdir && /Users/biocbuild/BBS/utils/build-universal.sh Rhdf5lib_1.32.0.tar.gz /Library/Frameworks/R.framework/Resources/bin/R Rhdf5lib.buildbin-libdir StartedAt: 2025-11-01 01:53:01 -0400 (Sat, 01 Nov 2025) EndedAt: 2025-11-01 02:02:25 -0400 (Sat, 01 Nov 2025) EllapsedTime: 563.8 seconds RetCode: 0 Status: OK PackageFile: Rhdf5lib_1.32.0.tgz PackageFileSize: 9.636 MiB