Package: Rhdf5lib Version: 1.31.1 Command: /Library/Frameworks/R.framework/Resources/bin/R CMD INSTALL Rhdf5lib StartedAt: 2025-10-26 15:01:14 -0400 (Sun, 26 Oct 2025) EndedAt: 2025-10-26 15:02:58 -0400 (Sun, 26 Oct 2025) EllapsedTime: 103.7 seconds RetCode: 0 Status: OK