Package: Rhdf5lib Version: 1.32.0 Command: /Library/Frameworks/R.framework/Resources/bin/R CMD build --keep-empty-dirs --no-resave-data Rhdf5lib StartedAt: 2025-11-18 00:15:31 -0500 (Tue, 18 Nov 2025) EndedAt: 2025-11-18 00:17:32 -0500 (Tue, 18 Nov 2025) EllapsedTime: 121.2 seconds RetCode: 0 Status: OK PackageFile: Rhdf5lib_1.32.0.tar.gz PackageFileSize: 11.5 MiB