Package: Rhdf5lib Version: 1.32.0 Command: rm -rf Rhdf5lib.buildbin-libdir && mkdir Rhdf5lib.buildbin-libdir && /Users/biocbuild/BBS/utils/build-universal.sh Rhdf5lib_1.32.0.tar.gz /Library/Frameworks/R.framework/Resources/bin/R Rhdf5lib.buildbin-libdir StartedAt: 2025-11-18 16:14:12 -0500 (Tue, 18 Nov 2025) EndedAt: 2025-11-18 16:17:31 -0500 (Tue, 18 Nov 2025) EllapsedTime: 199.2 seconds RetCode: 0 Status: OK PackageFile: Rhdf5lib_1.32.0.tgz PackageFileSize: 10.15 MiB