Package: Rgraphviz Version: 2.54.0 Command: /Library/Frameworks/R.framework/Resources/bin/R CMD build --keep-empty-dirs --no-resave-data Rgraphviz StartedAt: 2025-11-03 18:27:40 -0500 (Mon, 03 Nov 2025) EndedAt: 2025-11-03 18:32:02 -0500 (Mon, 03 Nov 2025) EllapsedTime: 261.7 seconds RetCode: 0 Status: OK PackageFile: Rgraphviz_2.54.0.tar.gz PackageFileSize: 7.294 MiB