Package: Rgraphviz Version: 2.54.0 Command: /Library/Frameworks/R.framework/Resources/bin/R CMD INSTALL Rgraphviz StartedAt: 2025-11-02 15:07:15 -0500 (Sun, 02 Nov 2025) EndedAt: 2025-11-02 15:08:13 -0500 (Sun, 02 Nov 2025) EllapsedTime: 58.3 seconds RetCode: 0 Status: OK