Package: Rgraphviz Version: 2.54.0 Command: rm -rf Rgraphviz.buildbin-libdir && mkdir Rgraphviz.buildbin-libdir && /Users/biocbuild/BBS/utils/build-universal.sh Rgraphviz_2.54.0.tar.gz /Library/Frameworks/R.framework/Resources/bin/R Rgraphviz.buildbin-libdir StartedAt: 2025-11-02 23:18:14 -0500 (Sun, 02 Nov 2025) EndedAt: 2025-11-02 23:19:32 -0500 (Sun, 02 Nov 2025) EllapsedTime: 78.5 seconds RetCode: 0 Status: OK PackageFile: Rgraphviz_2.54.0.tgz PackageFileSize: 1.687 MiB