Package: Rgraphviz Version: 2.54.0 Command: /Library/Frameworks/R.framework/Resources/bin/R CMD INSTALL Rgraphviz StartedAt: 2025-11-17 17:13:37 -0500 (Mon, 17 Nov 2025) EndedAt: 2025-11-17 17:14:33 -0500 (Mon, 17 Nov 2025) EllapsedTime: 55.6 seconds RetCode: 0 Status: OK