Package: Rgraphviz Version: 2.54.0 Command: /Library/Frameworks/R.framework/Resources/bin/R CMD build --keep-empty-dirs --no-resave-data Rgraphviz StartedAt: 2025-11-18 00:13:39 -0500 (Tue, 18 Nov 2025) EndedAt: 2025-11-18 00:14:50 -0500 (Tue, 18 Nov 2025) EllapsedTime: 70.7 seconds RetCode: 0 Status: OK PackageFile: Rgraphviz_2.54.0.tar.gz PackageFileSize: 7.299 MiB