Package: ResidualMatrix Version: 1.20.0 Command: /Library/Frameworks/R.framework/Resources/bin/R CMD INSTALL ResidualMatrix StartedAt: 2025-11-10 15:08:14 -0500 (Mon, 10 Nov 2025) EndedAt: 2025-11-10 15:08:21 -0500 (Mon, 10 Nov 2025) EllapsedTime: 7.0 seconds RetCode: 0 Status: OK