Package: ResidualMatrix Version: 1.20.0 Command: rm -rf ResidualMatrix.buildbin-libdir && mkdir ResidualMatrix.buildbin-libdir && /Users/biocbuild/BBS/utils/build-universal.sh ResidualMatrix_1.20.0.tar.gz /Library/Frameworks/R.framework/Resources/bin/R ResidualMatrix.buildbin-libdir StartedAt: 2025-11-10 23:33:09 -0500 (Mon, 10 Nov 2025) EndedAt: 2025-11-10 23:33:18 -0500 (Mon, 10 Nov 2025) EllapsedTime: 8.1 seconds RetCode: 0 Status: OK PackageFile: ResidualMatrix_1.20.0.tgz PackageFileSize: 629.5 KiB