Package: ReportingTools Version: 2.50.0 Command: /Library/Frameworks/R.framework/Resources/bin/R CMD INSTALL ReportingTools StartedAt: 2025-11-10 15:24:24 -0500 (Mon, 10 Nov 2025) EndedAt: 2025-11-10 15:24:48 -0500 (Mon, 10 Nov 2025) EllapsedTime: 24.3 seconds RetCode: 0 Status: OK