Package: Repitools Version: 1.55.2 Command: /home/biocbuild/bbs-3.22-bioc/R/bin/R CMD INSTALL Repitools StartedAt: 2025-10-27 16:09:53 -0400 (Mon, 27 Oct 2025) EndedAt: 2025-10-27 16:09:53 -0400 (Mon, 27 Oct 2025) EllapsedTime: 0.2 seconds RetCode: 1 Status: ERROR