Package: Repitools Version: 1.55.2 Command: /home/biocbuild/bbs-3.22-bioc/R/bin/R CMD build --keep-empty-dirs --no-resave-data --md5 Repitools StartedAt: 2025-10-27 19:35:55 -0400 (Mon, 27 Oct 2025) EndedAt: 2025-10-27 19:35:56 -0400 (Mon, 27 Oct 2025) EllapsedTime: 1.0 seconds RetCode: 1 Status: ERROR PackageFile: None PackageFileSize: NA