Package: Repitools Version: 1.56.0 Command: /Library/Frameworks/R.framework/Resources/bin/R CMD build --keep-empty-dirs --no-resave-data Repitools StartedAt: 2025-11-02 17:29:13 -0500 (Sun, 02 Nov 2025) EndedAt: 2025-11-02 17:29:14 -0500 (Sun, 02 Nov 2025) EllapsedTime: 1.0 seconds RetCode: 1 Status: ERROR PackageFile: None PackageFileSize: NA