Package: RepViz Version: 1.25.0 Command: /home/biocbuild/bbs-3.22-bioc/R/bin/R CMD build --keep-empty-dirs --no-resave-data --md5 RepViz StartedAt: 2025-10-28 19:34:33 -0400 (Tue, 28 Oct 2025) EndedAt: 2025-10-28 19:35:02 -0400 (Tue, 28 Oct 2025) EllapsedTime: 29.0 seconds RetCode: 1 Status: ERROR PackageFile: None PackageFileSize: NA