Package: RegEnrich Version: 1.20.0 Command: /home/biocbuild/bbs-3.22-bioc/R/bin/R CMD INSTALL RegEnrich StartedAt: 2025-11-14 15:47:09 -0500 (Fri, 14 Nov 2025) EndedAt: 2025-11-14 15:47:46 -0500 (Fri, 14 Nov 2025) EllapsedTime: 37.5 seconds RetCode: 0 Status: OK