Package: RedisParam Version: 1.12.0 Command: /Library/Frameworks/R.framework/Resources/bin/R CMD build --keep-empty-dirs --no-resave-data RedisParam StartedAt: 2025-11-18 00:08:36 -0500 (Tue, 18 Nov 2025) EndedAt: 2025-11-18 00:08:40 -0500 (Tue, 18 Nov 2025) EllapsedTime: 4.0 seconds RetCode: 0 Status: OK PackageFile: RedisParam_1.12.0.tar.gz PackageFileSize: 950.5 KiB