Package: RedisParam Version: 1.12.0 Command: rm -rf RedisParam.buildbin-libdir && mkdir RedisParam.buildbin-libdir && /Users/biocbuild/BBS/utils/build-universal.sh RedisParam_1.12.0.tar.gz /Library/Frameworks/R.framework/Resources/bin/R RedisParam.buildbin-libdir StartedAt: 2025-11-18 16:12:31 -0500 (Tue, 18 Nov 2025) EndedAt: 2025-11-18 16:12:34 -0500 (Tue, 18 Nov 2025) EllapsedTime: 3.0 seconds RetCode: 0 Status: OK PackageFile: RedisParam_1.12.0.tgz PackageFileSize: 1.002 MiB