Package: RedeR Version: 3.5.0 Command: /home/biocbuild/bbs-3.22-bioc/R/bin/R CMD INSTALL RedeR StartedAt: 2025-10-24 15:16:03 -0400 (Fri, 24 Oct 2025) EndedAt: 2025-10-24 15:16:20 -0400 (Fri, 24 Oct 2025) EllapsedTime: 16.8 seconds RetCode: 0 Status: OK