Package: RedeR Version: 3.5.0 Command: /home/biocbuild/bbs-3.22-bioc/R/bin/R CMD build --keep-empty-dirs --no-resave-data --md5 RedeR StartedAt: 2025-10-24 19:42:49 -0400 (Fri, 24 Oct 2025) EndedAt: 2025-10-24 19:43:01 -0400 (Fri, 24 Oct 2025) EllapsedTime: 12.0 seconds RetCode: 0 Status: OK PackageFile: RedeR_3.5.0.tar.gz PackageFileSize: 4.351 MiB