Package: ReadqPCR Version: 1.56.0 Command: /home/biocbuild/bbs-3.22-bioc/R/bin/R CMD INSTALL ReadqPCR StartedAt: 2025-10-30 15:12:47 -0400 (Thu, 30 Oct 2025) EndedAt: 2025-10-30 15:12:51 -0400 (Thu, 30 Oct 2025) EllapsedTime: 3.8 seconds RetCode: 0 Status: OK